BEGIN:VCALENDAR
VERSION:2.0
CALSCALE:GREGORIAN
PRODID:-//Diputació de Barcelona//DibaCMS//EN
BEGIN:VEVENT
UID:2349
DTSTAMP:20260421T143620
DTSTART:20161002T000000
DTEND:20161002T000000
SUMMARY:NETEGEM L'ENTORN DEL NOSTRE POBLE
LOCATION:
METHOD:PUBLISH
X-WR-CALNAME:info.pont@elpont.cat
X-WR-TIMEZONE:Europe/Madrid
DESCRIPTION:
URI:https://www.elpont.cat/actualitat/agenda/2349-netegem-lentorn-del-nostre-poble.html
CLASS:PUBLIC
END:VEVENT
END:VCALENDAR
