BEGIN:VCALENDAR
VERSION:2.0
CALSCALE:GREGORIAN
PRODID:-//Diputació de Barcelona//DibaCMS//EN
BEGIN:VEVENT
UID:2350
DTSTAMP:20260422T030335
DTSTART:20161004T000000
DTEND:20161004T000000
SUMMARY:HOMENATGE A LA GENT GRAN - PROGRAMA GENT GRAN ACTIVA
LOCATION:
METHOD:PUBLISH
X-WR-CALNAME:info.pont@elpont.cat
X-WR-TIMEZONE:Europe/Madrid
DESCRIPTION:Xerrada d'Educació Sanitària de la Gent Gran: La Hipertensió Arterial.
URI:https://www.elpont.cat/actualitat/agenda/homenatge-a-la-gent-gran-programa-gent-gran-activa.html
CLASS:PUBLIC
END:VEVENT
END:VCALENDAR
