BEGIN:VCALENDAR
VERSION:2.0
CALSCALE:GREGORIAN
PRODID:-//Diputació de Barcelona//DibaCMS//EN
BEGIN:VEVENT
UID:2351
DTSTAMP:20260421T124423
DTSTART:20161005T000000
DTEND:20161029T000000
SUMMARY:EXPOSICIÓ DE PINTURES DE NEUS SUAREZ
LOCATION:
METHOD:PUBLISH
X-WR-CALNAME:info.pont@elpont.cat
X-WR-TIMEZONE:Europe/Madrid
DESCRIPTION:
URI:https://www.elpont.cat/actualitat/agenda/2351-exposicio-de-pintures-de-neus-suarez.html
CLASS:PUBLIC
END:VEVENT
END:VCALENDAR
