BEGIN:VCALENDAR
VERSION:2.0
CALSCALE:GREGORIAN
PRODID:-//Diputació de Barcelona//DibaCMS//EN
BEGIN:VEVENT
UID:2353
DTSTAMP:20260421T131356
DTSTART:20161013T000000
DTEND:20161013T000000
SUMMARY:PROGRAMA GENT GRAN ACTIVA: LECTURA EN VEU ALTA DEL LLIBRE  EL DIARIO DE LAS CAJAS DE FÓSFOROS
LOCATION:
METHOD:PUBLISH
X-WR-CALNAME:info.pont@elpont.cat
X-WR-TIMEZONE:Europe/Madrid
DESCRIPTION:
URI:https://www.elpont.cat/actualitat/agenda/programa-gent-gran-activa-lectura-en-veu-alta-del-llibre-el-diario-de-las-cajas-de-fosforos.html
CLASS:PUBLIC
END:VEVENT
END:VCALENDAR
