BEGIN:VCALENDAR
VERSION:2.0
CALSCALE:GREGORIAN
PRODID:-//Diputació de Barcelona//DibaCMS//EN
BEGIN:VEVENT
UID:2354
DTSTAMP:20260421T191259
DTSTART:20161020T000000
DTEND:20161020T000000
SUMMARY:PROGRAMA GENT GRAN ACTIVA: BALL AMB JORDI
LOCATION:
METHOD:PUBLISH
X-WR-CALNAME:info.pont@elpont.cat
X-WR-TIMEZONE:Europe/Madrid
DESCRIPTION:
URI:https://www.elpont.cat/actualitat/agenda/programa-gent-gran-activa-ball-amb-jordi.html
CLASS:PUBLIC
END:VEVENT
END:VCALENDAR
