BEGIN:VCALENDAR
VERSION:2.0
CALSCALE:GREGORIAN
PRODID:-//Diputació de Barcelona//DibaCMS//EN
BEGIN:VEVENT
UID:2365
DTSTAMP:20260421T134642
DTSTART:20161117T000000
DTEND:20161117T000000
SUMMARY:PROGRAMA GENT GRAN ACTIVA: LECTURA EN VEU ALTA DEL LLIBRE HISTÒRIES ENCANTADES DE CATALUNYA
LOCATION:
METHOD:PUBLISH
X-WR-CALNAME:info.pont@elpont.cat
X-WR-TIMEZONE:Europe/Madrid
DESCRIPTION:
URI:https://www.elpont.cat/actualitat/agenda/programa-gent-gran-activa-lectura-en-veu-alta-del-llibre-histories-encantades-de-catalunya.html
CLASS:PUBLIC
END:VEVENT
END:VCALENDAR
