BEGIN:VCALENDAR
VERSION:2.0
CALSCALE:GREGORIAN
PRODID:-//Diputació de Barcelona//DibaCMS//EN
BEGIN:VEVENT
UID:2366
DTSTAMP:20260422T002934
DTSTART:20161120T000000
DTEND:20161120T000000
SUMMARY:PINTEM ELS DRETS DELS INFANTS EN FAMÍLIA
LOCATION:
METHOD:PUBLISH
X-WR-CALNAME:info.pont@elpont.cat
X-WR-TIMEZONE:Europe/Madrid
DESCRIPTION:
URI:https://www.elpont.cat/actualitat/agenda/pintem-els-drets-dels-infants-en-familia.html
CLASS:PUBLIC
END:VEVENT
END:VCALENDAR
