BEGIN:VCALENDAR
VERSION:2.0
CALSCALE:GREGORIAN
PRODID:-//Diputació de Barcelona//DibaCMS//EN
BEGIN:VEVENT
UID:2367
DTSTAMP:20260421T230632
DTSTART:20161121T000000
DTEND:20161125T000000
SUMMARY:PINTEM TARGETES VERMELLES CONTRA LA VIOLÈNCIA
LOCATION:
METHOD:PUBLISH
X-WR-CALNAME:info.pont@elpont.cat
X-WR-TIMEZONE:Europe/Madrid
DESCRIPTION:Activitat inclosa dins els actes de commemoració del Dia Internacional per l'Eliminació de la Violència contra les Dones
URI:https://www.elpont.cat/actualitat/agenda/pintem-targetes-vermelles-contra-la-violencia.html
CLASS:PUBLIC
END:VEVENT
END:VCALENDAR
