BEGIN:VCALENDAR
VERSION:2.0
CALSCALE:GREGORIAN
PRODID:-//Diputació de Barcelona//DibaCMS//EN
BEGIN:VEVENT
UID:2368
DTSTAMP:20260421T162033
DTSTART:20161122T000000
DTEND:20161122T000000
SUMMARY:GALETES CONTRA LA VIOLÈNCIA
LOCATION:
METHOD:PUBLISH
X-WR-CALNAME:info.pont@elpont.cat
X-WR-TIMEZONE:Europe/Madrid
DESCRIPTION:Taller de galetes, cafè i pintura de sabates  vermelles.
 
Activitat inclosa dins els actes de commemoració del Dia Internacional per l'Eliminació de la Violència contra les Dones.
URI:https://www.elpont.cat/actualitat/agenda/galetes-contra-la-violencia.html
CLASS:PUBLIC
END:VEVENT
END:VCALENDAR
