BEGIN:VCALENDAR
VERSION:2.0
CALSCALE:GREGORIAN
PRODID:-//Diputació de Barcelona//DibaCMS//EN
BEGIN:VEVENT
UID:2369
DTSTAMP:20260422T010055
DTSTART:20161124T000000
DTEND:20161124T000000
SUMMARY:EXPRESSA LES TEVES EMOCIONS A TRAVÉS DE LA PINTURA
LOCATION:
METHOD:PUBLISH
X-WR-CALNAME:info.pont@elpont.cat
X-WR-TIMEZONE:Europe/Madrid
DESCRIPTION:Taller d'art a càrrec de l'artista local Maribel Risquete.
 
Activitat inclosa dins els actes de commemoració del Dia Internacional per l'Eliminació de la Violència contra les Dones.
URI:https://www.elpont.cat/actualitat/agenda/expressa-les-teves-emocions-a-traves-de-la-pintura.html
CLASS:PUBLIC
END:VEVENT
END:VCALENDAR
