BEGIN:VCALENDAR
VERSION:2.0
CALSCALE:GREGORIAN
PRODID:-//Diputació de Barcelona//DibaCMS//EN
BEGIN:VEVENT
UID:2371
DTSTAMP:20260421T210753
DTSTART:20161125T000000
DTEND:20161125T000000
SUMMARY:CREACIÓ COL·LECTIVA I ARTÍSTICA &quot;SABATES VERMELLES&quot;
LOCATION:
METHOD:PUBLISH
X-WR-CALNAME:info.pont@elpont.cat
X-WR-TIMEZONE:Europe/Madrid
DESCRIPTION:Acte central de commemoració del Dia Internacional per l'Eliminació de la Violència contra les Dones.
 
Es farà un minut de silenci en record de les dones assassinades i lectura del Manifest Institucional.
URI:https://www.elpont.cat/actualitat/agenda/creacio-collectiva-i-artistica-andquotsabates-vermellesandquot.html
CLASS:PUBLIC
END:VEVENT
END:VCALENDAR
