BEGIN:VCALENDAR
VERSION:2.0
CALSCALE:GREGORIAN
PRODID:-//Diputació de Barcelona//DibaCMS//EN
BEGIN:VEVENT
UID:2372
DTSTAMP:20260421T134814
DTSTART:20161126T000000
DTEND:20161126T000000
SUMMARY:TALLER PLANETA AMENAÇAT, TITELLES AL RESCAT
LOCATION:
METHOD:PUBLISH
X-WR-CALNAME:info.pont@elpont.cat
X-WR-TIMEZONE:Europe/Madrid
DESCRIPTION:
URI:https://www.elpont.cat/actualitat/agenda/taller-planeta-amenacat-titelles-al-rescat.html
CLASS:PUBLIC
END:VEVENT
END:VCALENDAR
