BEGIN:VCALENDAR
VERSION:2.0
CALSCALE:GREGORIAN
PRODID:-//Diputació de Barcelona//DibaCMS//EN
BEGIN:VEVENT
UID:2373
DTSTAMP:20260421T204754
DTSTART:20161130T000000
DTEND:20161130T000000
SUMMARY:TERTÚLIA LITERÀRIA AMB BLANCA BUSQUETS
LOCATION:
METHOD:PUBLISH
X-WR-CALNAME:info.pont@elpont.cat
X-WR-TIMEZONE:Europe/Madrid
DESCRIPTION:
URI:https://www.elpont.cat/actualitat/agenda/tertulia-literaria-amb-blanca-busquets.html
CLASS:PUBLIC
END:VEVENT
END:VCALENDAR
