BEGIN:VCALENDAR
VERSION:2.0
CALSCALE:GREGORIAN
PRODID:-//Diputació de Barcelona//DibaCMS//EN
BEGIN:VEVENT
UID:2374
DTSTAMP:20260421T210454
DTSTART:20161130T000000
DTEND:20161130T000000
SUMMARY:PLE EXTRAORDINARI PEL DIMECRES 30 DE NOVEMBRE DE 2016
LOCATION:
METHOD:PUBLISH
X-WR-CALNAME:info.pont@elpont.cat
X-WR-TIMEZONE:Europe/Madrid
DESCRIPTION:
URI:https://www.elpont.cat/actualitat/agenda/2374-ple-extraordinari-pel-dimecres-30-de-novembre-de-2016.html
CLASS:PUBLIC
END:VEVENT
END:VCALENDAR
