BEGIN:VCALENDAR
VERSION:2.0
CALSCALE:GREGORIAN
PRODID:-//Diputació de Barcelona//DibaCMS//EN
BEGIN:VEVENT
UID:2376
DTSTAMP:20260421T192413
DTSTART:20161214T000000
DTEND:20161214T000000
SUMMARY:FESTES NADALENQUES 2016 - TALLER DE NADAL PER A ADULTS
LOCATION:
METHOD:PUBLISH
X-WR-CALNAME:info.pont@elpont.cat
X-WR-TIMEZONE:Europe/Madrid
DESCRIPTION:A càrrec de Marisa Jorba d'Irregular Stone.
URI:https://www.elpont.cat/actualitat/agenda/festes-nadalenques-2016-taller-de-nadal-per-a-adults.html
CLASS:PUBLIC
END:VEVENT
END:VCALENDAR
