BEGIN:VCALENDAR
VERSION:2.0
CALSCALE:GREGORIAN
PRODID:-//Diputació de Barcelona//DibaCMS//EN
BEGIN:VEVENT
UID:2378
DTSTAMP:20260421T190006
DTSTART:20161216T000000
DTEND:20161216T000000
SUMMARY:FESTES NADALENQUES 2016 - BERENAR SOLIDARI PER LA MARATÓ
LOCATION:
METHOD:PUBLISH
X-WR-CALNAME:info.pont@elpont.cat
X-WR-TIMEZONE:Europe/Madrid
DESCRIPTION:
URI:https://www.elpont.cat/actualitat/agenda/festes-nadalenques-2016-berenar-solidari-per-la-marato.html
CLASS:PUBLIC
END:VEVENT
END:VCALENDAR
