BEGIN:VCALENDAR
VERSION:2.0
CALSCALE:GREGORIAN
PRODID:-//Diputació de Barcelona//DibaCMS//EN
BEGIN:VEVENT
UID:2381
DTSTAMP:20260422T010532
DTSTART:20161218T000000
DTEND:20161218T000000
SUMMARY:FESTES NADALENQUES 2016 - CONCERT TROBADORS DEL BAGES
LOCATION:
METHOD:PUBLISH
X-WR-CALNAME:info.pont@elpont.cat
X-WR-TIMEZONE:Europe/Madrid
DESCRIPTION:
URI:https://www.elpont.cat/actualitat/agenda/festes-nadalenques-2016-concert-trobadors-del-bages.html
CLASS:PUBLIC
END:VEVENT
END:VCALENDAR
