BEGIN:VCALENDAR
VERSION:2.0
CALSCALE:GREGORIAN
PRODID:-//Diputació de Barcelona//DibaCMS//EN
BEGIN:VEVENT
UID:2382
DTSTAMP:20260421T143514
DTSTART:20161218T000000
DTEND:20161218T000000
SUMMARY:FESTES NADALENQUES 2016 - MERCAT DE SANTA LLÚCIA PER LA MARATÓ DE TV3
LOCATION:
METHOD:PUBLISH
X-WR-CALNAME:info.pont@elpont.cat
X-WR-TIMEZONE:Europe/Madrid
DESCRIPTION:Amb la col·laboració d'entitats locals
URI:https://www.elpont.cat/actualitat/agenda/festes-nadalenques-2016-mercat-de-santa-llucia-per-la-marato-de-tv3.html
CLASS:PUBLIC
END:VEVENT
END:VCALENDAR
