BEGIN:VCALENDAR
VERSION:2.0
CALSCALE:GREGORIAN
PRODID:-//Diputació de Barcelona//DibaCMS//EN
BEGIN:VEVENT
UID:2383
DTSTAMP:20260421T173855
DTSTART:20161219T000000
DTEND:20161221T000000
SUMMARY:FESTES NADALENQUES 2016 - TALLER DE MANUALITATS NADALENQUES PER A INFANTS
LOCATION:
METHOD:PUBLISH
X-WR-CALNAME:info.pont@elpont.cat
X-WR-TIMEZONE:Europe/Madrid
DESCRIPTION:
URI:https://www.elpont.cat/actualitat/agenda/festes-nadalenques-2016-taller-de-manualitats-nadalenques-per-a-infants.html
CLASS:PUBLIC
END:VEVENT
END:VCALENDAR
