BEGIN:VCALENDAR
VERSION:2.0
CALSCALE:GREGORIAN
PRODID:-//Diputació de Barcelona//DibaCMS//EN
BEGIN:VEVENT
UID:2384
DTSTAMP:20260421T190446
DTSTART:20161222T000000
DTEND:20161222T000000
SUMMARY:PROGRAMA GENT GRAN ACTIVA: BALL AMB MAKI MAKI
LOCATION:
METHOD:PUBLISH
X-WR-CALNAME:info.pont@elpont.cat
X-WR-TIMEZONE:Europe/Madrid
DESCRIPTION:
URI:https://www.elpont.cat/actualitat/agenda/2384-programa-gent-gran-activa-ball-amb-maki-maki.html
CLASS:PUBLIC
END:VEVENT
END:VCALENDAR
