BEGIN:VCALENDAR
VERSION:2.0
CALSCALE:GREGORIAN
PRODID:-//Diputació de Barcelona//DibaCMS//EN
BEGIN:VEVENT
UID:2386
DTSTAMP:20260421T232335
DTSTART:20161224T000000
DTEND:20161224T000000
SUMMARY:FESTES NADALENQUES 2016 - MISSA DEL GALL
LOCATION:
METHOD:PUBLISH
X-WR-CALNAME:info.pont@elpont.cat
X-WR-TIMEZONE:Europe/Madrid
DESCRIPTION:Cantada pel Cor Parroquial
URI:https://www.elpont.cat/actualitat/agenda/festes-nadalenques-2016-missa-del-gall.html
CLASS:PUBLIC
END:VEVENT
END:VCALENDAR
