BEGIN:VCALENDAR
VERSION:2.0
CALSCALE:GREGORIAN
PRODID:-//Diputació de Barcelona//DibaCMS//EN
BEGIN:VEVENT
UID:2389
DTSTAMP:20260422T015004
DTSTART:20161225T000000
DTEND:20161225T000000
SUMMARY:FESTES NADALENQUES 2016 - MISSA DE NADAL
LOCATION:
METHOD:PUBLISH
X-WR-CALNAME:info.pont@elpont.cat
X-WR-TIMEZONE:Europe/Madrid
DESCRIPTION:Cantada pel Cor Parroquial
URI:https://www.elpont.cat/actualitat/agenda/festes-nadalenques-2016-missa-de-nadal.html
CLASS:PUBLIC
END:VEVENT
END:VCALENDAR
