BEGIN:VCALENDAR
VERSION:2.0
CALSCALE:GREGORIAN
PRODID:-//Diputació de Barcelona//DibaCMS//EN
BEGIN:VEVENT
UID:2390
DTSTAMP:20260422T002825
DTSTART:20161226T000000
DTEND:20161226T000000
SUMMARY:FESTES NADALENQUES 2016 - CAGA TIÓ GEGANT
LOCATION:
METHOD:PUBLISH
X-WR-CALNAME:info.pont@elpont.cat
X-WR-TIMEZONE:Europe/Madrid
DESCRIPTION:
URI:https://www.elpont.cat/actualitat/agenda/festes-nadalenques-2016-caga-tio-gegant.html
CLASS:PUBLIC
END:VEVENT
END:VCALENDAR
