BEGIN:VCALENDAR
VERSION:2.0
CALSCALE:GREGORIAN
PRODID:-//Diputació de Barcelona//DibaCMS//EN
BEGIN:VEVENT
UID:2392
DTSTAMP:20260421T203033
DTSTART:20161230T000000
DTEND:20161230T000000
SUMMARY:FESTES NADALENQUES 2016 - ARRIBADA DEL PRÍNCEP SACHA I XOCOLATADA
LOCATION:
METHOD:PUBLISH
X-WR-CALNAME:info.pont@elpont.cat
X-WR-TIMEZONE:Europe/Madrid
DESCRIPTION:
URI:https://www.elpont.cat/actualitat/agenda/festes-nadalenques-2016-arribada-del-princep-sacha-i-xocolatada.html
CLASS:PUBLIC
END:VEVENT
END:VCALENDAR
