BEGIN:VCALENDAR
VERSION:2.0
CALSCALE:GREGORIAN
PRODID:-//Diputació de Barcelona//DibaCMS//EN
BEGIN:VEVENT
UID:2393
DTSTAMP:20260421T230500
DTSTART:20161231T000000
DTEND:20161231T000000
SUMMARY:FESTES NADALENQUES 2016 - BALL DE CAP D'ANY AMB DJ
LOCATION:
METHOD:PUBLISH
X-WR-CALNAME:info.pont@elpont.cat
X-WR-TIMEZONE:Europe/Madrid
DESCRIPTION:
URI:https://www.elpont.cat/actualitat/agenda/festes-nadalenques-2016-ball-de-cap-dany-amb-dj.html
CLASS:PUBLIC
END:VEVENT
END:VCALENDAR
