BEGIN:VCALENDAR
VERSION:2.0
CALSCALE:GREGORIAN
PRODID:-//Diputació de Barcelona//DibaCMS//EN
BEGIN:VEVENT
UID:2394
DTSTAMP:20260421T230106
DTSTART:20170105T000000
DTEND:20170105T000000
SUMMARY:FESTES NADALENQUES 2016 - CAVALCADA DELS REIS MAGS D'ORIENT A ROCAFORT
LOCATION:
METHOD:PUBLISH
X-WR-CALNAME:info.pont@elpont.cat
X-WR-TIMEZONE:Europe/Madrid
DESCRIPTION:
URI:https://www.elpont.cat/actualitat/agenda/festes-nadalenques-2016-cavalcada-dels-reis-mags-dorient-a-rocafort.html
CLASS:PUBLIC
END:VEVENT
END:VCALENDAR
