BEGIN:VCALENDAR
VERSION:2.0
CALSCALE:GREGORIAN
PRODID:-//Diputació de Barcelona//DibaCMS//EN
BEGIN:VEVENT
UID:2395
DTSTAMP:20260421T134409
DTSTART:20170105T000000
DTEND:20170105T000000
SUMMARY:FESTES NADALENQUES 2016 - ARRIBADA DELS REIS MAGS D'ORIENT
LOCATION:
METHOD:PUBLISH
X-WR-CALNAME:info.pont@elpont.cat
X-WR-TIMEZONE:Europe/Madrid
DESCRIPTION:Lliurament de la clau del poble per part de l'Alcalde al balcó de l'Ajunatment. Seguidament cercavila pel poble.
URI:https://www.elpont.cat/actualitat/agenda/festes-nadalenques-2016-arribada-dels-reis-mags-dorient.html
CLASS:PUBLIC
END:VEVENT
END:VCALENDAR
