BEGIN:VCALENDAR
VERSION:2.0
CALSCALE:GREGORIAN
PRODID:-//Diputació de Barcelona//DibaCMS//EN
BEGIN:VEVENT
UID:2396
DTSTAMP:20260421T205753
DTSTART:20170114T000000
DTEND:20170114T000000
SUMMARY:L'HORA DEL CONTE &quot;SOTA LES SABATES&quot; AMB ADA CUSIDÓ
LOCATION:
METHOD:PUBLISH
X-WR-CALNAME:info.pont@elpont.cat
X-WR-TIMEZONE:Europe/Madrid
DESCRIPTION:
URI:https://www.elpont.cat/actualitat/agenda/2396-lhora-del-conte-andquotsota-les-sabatesandquot-amb-ada-cusido.html
CLASS:PUBLIC
END:VEVENT
END:VCALENDAR
