BEGIN:VCALENDAR
VERSION:2.0
CALSCALE:GREGORIAN
PRODID:-//Diputació de Barcelona//DibaCMS//EN
BEGIN:VEVENT
UID:2398
DTSTAMP:20260422T003407
DTSTART:20170125T000000
DTEND:20170228T000000
SUMMARY:PERÍODE DE RENOVACIONS DE LES PRESTACIONS DE LLOGUER 2017
LOCATION:
METHOD:PUBLISH
X-WR-CALNAME:info.pont@elpont.cat
X-WR-TIMEZONE:Europe/Madrid
DESCRIPTION:
URI:https://www.elpont.cat/actualitat/agenda/periode-de-renovacions-de-les-prestacions-de-lloguer-2017.html
CLASS:PUBLIC
END:VEVENT
END:VCALENDAR
