BEGIN:VCALENDAR
VERSION:2.0
CALSCALE:GREGORIAN
PRODID:-//Diputació de Barcelona//DibaCMS//EN
BEGIN:VEVENT
UID:2399
DTSTAMP:20260421T143447
DTSTART:20170130T000000
DTEND:20170130T000000
SUMMARY:PLE ORDINARI PEL DILLUNS 30 DE GENER DE 2017
LOCATION:
METHOD:PUBLISH
X-WR-CALNAME:info.pont@elpont.cat
X-WR-TIMEZONE:Europe/Madrid
DESCRIPTION:
URI:https://www.elpont.cat/actualitat/agenda/2399-ple-ordinari-pel-dilluns-30-de-gener-de-2017.html
CLASS:PUBLIC
END:VEVENT
END:VCALENDAR
