BEGIN:VCALENDAR
VERSION:2.0
CALSCALE:GREGORIAN
PRODID:-//Diputació de Barcelona//DibaCMS//EN
BEGIN:VEVENT
UID:2401
DTSTAMP:20260421T190149
DTSTART:20170131T000000
DTEND:20170210T000000
SUMMARY:PERÍODE D'INSCRIPCIONS AL CURS D'INFORMÀTICA PER A ADULTS
LOCATION:
METHOD:PUBLISH
X-WR-CALNAME:info.pont@elpont.cat
X-WR-TIMEZONE:Europe/Madrid
DESCRIPTION:
URI:https://www.elpont.cat/actualitat/agenda/periode-dinscripcions-al-curs-dinformatica-per-a-adults.html
CLASS:PUBLIC
END:VEVENT
END:VCALENDAR
