BEGIN:VCALENDAR
VERSION:2.0
CALSCALE:GREGORIAN
PRODID:-//Diputació de Barcelona//DibaCMS//EN
BEGIN:VEVENT
UID:2402
DTSTAMP:20260421T131710
DTSTART:20170209T000000
DTEND:20170209T000000
SUMMARY:IMPULSEM EL TEIXIT PRODUCTIU
LOCATION:
METHOD:PUBLISH
X-WR-CALNAME:info.pont@elpont.cat
X-WR-TIMEZONE:Europe/Madrid
DESCRIPTION:
URI:https://www.elpont.cat/actualitat/agenda/2402-impulsem-el-teixit-productiu.html
CLASS:PUBLIC
END:VEVENT
END:VCALENDAR
