BEGIN:VCALENDAR
VERSION:2.0
CALSCALE:GREGORIAN
PRODID:-//Diputació de Barcelona//DibaCMS//EN
BEGIN:VEVENT
UID:2407
DTSTAMP:20260421T161649
DTSTART:20170222T000000
DTEND:20170222T000000
SUMMARY:PRESENTACIÓ DEL LLIBRE &quot;BAGES: 17 EXCURSIONS A PEU&quot;
LOCATION:
METHOD:PUBLISH
X-WR-CALNAME:info.pont@elpont.cat
X-WR-TIMEZONE:Europe/Madrid
DESCRIPTION:A càrrec del seu autor Pol Huguet, geògraf, excursionista i professor manresà.
URI:https://www.elpont.cat/actualitat/agenda/presentacio-del-llibre-andquotbages-17-excursions-a-peuandquot.html
CLASS:PUBLIC
END:VEVENT
END:VCALENDAR
