BEGIN:VCALENDAR
VERSION:2.0
CALSCALE:GREGORIAN
PRODID:-//Diputació de Barcelona//DibaCMS//EN
BEGIN:VEVENT
UID:2409
DTSTAMP:20260421T135250
DTSTART:20170225T000000
DTEND:20170225T000000
SUMMARY:CARNESTOLTES 2017 - GRAN RUA DE DISFRESES
LOCATION:
METHOD:PUBLISH
X-WR-CALNAME:info.pont@elpont.cat
X-WR-TIMEZONE:Europe/Madrid
DESCRIPTION:Amb la Batucada "Taboo Percussió".
URI:https://www.elpont.cat/actualitat/agenda/carnestoltes-2017-gran-rua-de-disfreses.html
CLASS:PUBLIC
END:VEVENT
END:VCALENDAR
