BEGIN:VCALENDAR
VERSION:2.0
CALSCALE:GREGORIAN
PRODID:-//Diputació de Barcelona//DibaCMS//EN
BEGIN:VEVENT
UID:2411
DTSTAMP:20260421T115459
DTSTART:20170228T000000
DTEND:20170228T000000
SUMMARY:TALLER DE CUINA &quot;ELS SECRETS DE LA PASTA&quot;
LOCATION:
METHOD:PUBLISH
X-WR-CALNAME:info.pont@elpont.cat
X-WR-TIMEZONE:Europe/Madrid
DESCRIPTION:
URI:https://www.elpont.cat/actualitat/agenda/2411-taller-de-cuina-andquotels-secrets-de-la-pastaandquot.html
CLASS:PUBLIC
END:VEVENT
END:VCALENDAR
