BEGIN:VCALENDAR
VERSION:2.0
CALSCALE:GREGORIAN
PRODID:-//Diputació de Barcelona//DibaCMS//EN
BEGIN:VEVENT
UID:2412
DTSTAMP:20260421T204255
DTSTART:20170301T000000
DTEND:20170301T000000
SUMMARY:CARNESTOLTES 2017 - ENTERRAMENT DE LA SARDINA
LOCATION:
METHOD:PUBLISH
X-WR-CALNAME:info.pont@elpont.cat
X-WR-TIMEZONE:Europe/Madrid
DESCRIPTION:Al final de la rua, al Casal de la Mainada, hi haurà degustació gratuïta de sardines, però cal recollir ticket a l'Ajuntament.
URI:https://www.elpont.cat/actualitat/agenda/2412-carnestoltes-2017-enterrament-de-la-sardina.html
CLASS:PUBLIC
END:VEVENT
END:VCALENDAR
