BEGIN:VCALENDAR
VERSION:2.0
CALSCALE:GREGORIAN
PRODID:-//Diputació de Barcelona//DibaCMS//EN
BEGIN:VEVENT
UID:2414
DTSTAMP:20260421T191519
DTSTART:20170304T000000
DTEND:20170331T000000
SUMMARY:DIA INTERNACIONAL DE LES DONES - EXPOSICIÓ &quot;DONES DE FUM I AIGUA&quot;
LOCATION:
METHOD:PUBLISH
X-WR-CALNAME:info.pont@elpont.cat
X-WR-TIMEZONE:Europe/Madrid
DESCRIPTION:Exposició de pin tures del Col·lectiu de Dones Artistes del Pont de Vilomara i Rocafort.
 
Inauguració: dissabte 4 de març a les 12 del migdia, a la Biblioteca.
 
L'exposició es podrà visitar en horari de la Biblioteca fins al 31 de març.
URI:https://www.elpont.cat/actualitat/agenda/dia-internacional-de-les-dones-exposicio-andquotdones-de-fum-i-aiguaandquot.html
CLASS:PUBLIC
END:VEVENT
END:VCALENDAR
