BEGIN:VCALENDAR
VERSION:2.0
CALSCALE:GREGORIAN
PRODID:-//Diputació de Barcelona//DibaCMS//EN
BEGIN:VEVENT
UID:2415
DTSTAMP:20260421T135158
DTSTART:20170306T000000
DTEND:20170306T000000
SUMMARY:DIA INTERNACIONAL DE LES DONES - CANTATA INFANTIL &quot;LA PETITA PÇA CANTA PER LA IGUALTAT&quot;
LOCATION:
METHOD:PUBLISH
X-WR-CALNAME:info.pont@elpont.cat
X-WR-TIMEZONE:Europe/Madrid
DESCRIPTION:Cantata infantil "La Petita Puça canta per la Igualtat", Cantata a favor de la igualtat organitzada pel Servei d'Informació i Atenció de les Dones del Consell Comarcal del Bages.
 
El conte de la Petita Puça explica com es poden evitar la discriminació i desigualtat entre homes i dones valorant de forma positiva les diferències. Participació dels infants de les Escoles de Castellgalí, Sant Salvador de Guardiola i El Pont de Vilomara.
 
Aforament de la sala reservat per a infants participants i familiars d'aquests. Entrades per a la ciutadania limitades fins a omplir l'aforament de la sala. Cal recollir tiquet a l'Ajuntament
URI:https://www.elpont.cat/actualitat/agenda/dia-internacional-de-les-dones-cantata-infantil-andquotla-petita-pca-canta-per-la-igualtatandquot.html
CLASS:PUBLIC
END:VEVENT
END:VCALENDAR
