BEGIN:VCALENDAR
VERSION:2.0
CALSCALE:GREGORIAN
PRODID:-//Diputació de Barcelona//DibaCMS//EN
BEGIN:VEVENT
UID:2416
DTSTAMP:20260421T144331
DTSTART:20170308T000000
DTEND:20170308T000000
SUMMARY:DIA INTERNACIONAL DE LES DONES - TALLER D'INICIACIÓ ALS HIPOPRESSIUS
LOCATION:
METHOD:PUBLISH
X-WR-CALNAME:info.pont@elpont.cat
X-WR-TIMEZONE:Europe/Madrid
DESCRIPTION:A càrrec de la fisioterapeuta Anna Pujol.
 
Parlem dels beneficis i indicacions dels hipopressius. Què són i per a què serveixen? Tothom en pot fer? A qui va adreçat? Aprendrem a fer-los i a entendre la importància d’adoptar una bona postura corporal i una respiració adequada.
URI:https://www.elpont.cat/actualitat/agenda/dia-internacional-de-les-dones-taller-diniciacio-als-hipopressius.html
CLASS:PUBLIC
END:VEVENT
END:VCALENDAR
