BEGIN:VCALENDAR
VERSION:2.0
CALSCALE:GREGORIAN
PRODID:-//Diputació de Barcelona//DibaCMS//EN
BEGIN:VEVENT
UID:2418
DTSTAMP:20260421T144611
DTSTART:20170310T000000
DTEND:20170310T000000
SUMMARY:FESTA DEL CONTRIBUENT - BALL PER A JOVES
LOCATION:
METHOD:PUBLISH
X-WR-CALNAME:info.pont@elpont.cat
X-WR-TIMEZONE:Europe/Madrid
DESCRIPTION:
URI:https://www.elpont.cat/actualitat/agenda/2418-festa-del-contribuent-ball-per-a-joves.html
CLASS:PUBLIC
END:VEVENT
END:VCALENDAR
