BEGIN:VCALENDAR
VERSION:2.0
CALSCALE:GREGORIAN
PRODID:-//Diputació de Barcelona//DibaCMS//EN
BEGIN:VEVENT
UID:2419
DTSTAMP:20260421T122204
DTSTART:20170311T000000
DTEND:20170311T000000
SUMMARY:FESTA DEL CONTRIBUENT - EL MÓN DE LA XOCOLATA
LOCATION:
METHOD:PUBLISH
X-WR-CALNAME:info.pont@elpont.cat
X-WR-TIMEZONE:Europe/Madrid
DESCRIPTION:La xocolata agrada a tothom però, tot i així, hi ha molts aspectes que desconeixem. Amb aquest activitat familiar descobrirem el seu origen, els seu secrets i llegendes amb informació que no deixarà indiferent a ningú!!
 
I a més, gaudirem d'una cata guiada amb diferents varietats de xocolata!
 
Activitat adreçada a famílies amb infants majors de 6 anys, les places són limitades i cal inscripció prèvia a la biblioteca
URI:https://www.elpont.cat/actualitat/agenda/festa-del-contribuent-el-mon-de-la-xocolata.html
CLASS:PUBLIC
END:VEVENT
END:VCALENDAR
