BEGIN:VCALENDAR
VERSION:2.0
CALSCALE:GREGORIAN
PRODID:-//Diputació de Barcelona//DibaCMS//EN
BEGIN:VEVENT
UID:2421
DTSTAMP:20260421T211103
DTSTART:20170311T000000
DTEND:20170311T000000
SUMMARY:FESTA DEL CONTRIBUENT - BALL DEL CONTRIBUENT
LOCATION:
METHOD:PUBLISH
X-WR-CALNAME:info.pont@elpont.cat
X-WR-TIMEZONE:Europe/Madrid
DESCRIPTION:Amb l'Orquestra Costa Brava
URI:https://www.elpont.cat/actualitat/agenda/2421-festa-del-contribuent-ball-del-contribuent.html
CLASS:PUBLIC
END:VEVENT
END:VCALENDAR
