BEGIN:VCALENDAR
VERSION:2.0
CALSCALE:GREGORIAN
PRODID:-//Diputació de Barcelona//DibaCMS//EN
BEGIN:VEVENT
UID:2422
DTSTAMP:20260421T193254
DTSTART:20170311T000000
DTEND:20170311T000000
SUMMARY:FESTA DEL CONTRIBUENT - PROCLAMACIÓ DE LA PUBILLA, DAMA I HEREU 2017
LOCATION:
METHOD:PUBLISH
X-WR-CALNAME:info.pont@elpont.cat
X-WR-TIMEZONE:Europe/Madrid
DESCRIPTION:Cercavila amb les pubilles i hereus acompanyants amb els Gegants del poble.
URI:https://www.elpont.cat/actualitat/agenda/festa-del-contribuent-proclamacio-de-la-pubilla-dama-i-hereu-2017.html
CLASS:PUBLIC
END:VEVENT
END:VCALENDAR
