BEGIN:VCALENDAR
VERSION:2.0
CALSCALE:GREGORIAN
PRODID:-//Diputació de Barcelona//DibaCMS//EN
BEGIN:VEVENT
UID:2423
DTSTAMP:20260421T191148
DTSTART:20170311T000000
DTEND:20170311T000000
SUMMARY:FESTA DEL CONTRIBUENT - CONCERT
LOCATION:
METHOD:PUBLISH
X-WR-CALNAME:info.pont@elpont.cat
X-WR-TIMEZONE:Europe/Madrid
DESCRIPTION:Amb l'Orquetra Costa Brava
URI:https://www.elpont.cat/actualitat/agenda/2423-festa-del-contribuent-concert.html
CLASS:PUBLIC
END:VEVENT
END:VCALENDAR
