BEGIN:VCALENDAR
VERSION:2.0
CALSCALE:GREGORIAN
PRODID:-//Diputació de Barcelona//DibaCMS//EN
BEGIN:VEVENT
UID:2424
DTSTAMP:20260421T143632
DTSTART:20170311T000000
DTEND:20170311T000000
SUMMARY:FESTA DEL CONTRIBUENT - SARDANES
LOCATION:
METHOD:PUBLISH
X-WR-CALNAME:info.pont@elpont.cat
X-WR-TIMEZONE:Europe/Madrid
DESCRIPTION:Amb l'Orquestra Costa Brava
URI:https://www.elpont.cat/actualitat/agenda/festa-del-contribuent-sardanes.html
CLASS:PUBLIC
END:VEVENT
END:VCALENDAR
