BEGIN:VCALENDAR
VERSION:2.0
CALSCALE:GREGORIAN
PRODID:-//Diputació de Barcelona//DibaCMS//EN
BEGIN:VEVENT
UID:2426
DTSTAMP:20260421T105231
DTSTART:20170312T000000
DTEND:20170312T000000
SUMMARY:FESTA DEL CONTRIBUENT - TERCERA TROBADA DE PENYES
LOCATION:
METHOD:PUBLISH
X-WR-CALNAME:info.pont@elpont.cat
X-WR-TIMEZONE:Europe/Madrid
DESCRIPTION:Botifarrada popular a 5€ per als membres de penyes i a 6 € per a la resta.
 
Hi haurà jocs i inflables lúdics.
URI:https://www.elpont.cat/actualitat/agenda/festa-del-contribuent-tercera-trobada-de-penyes.html
CLASS:PUBLIC
END:VEVENT
END:VCALENDAR
