BEGIN:VCALENDAR
VERSION:2.0
CALSCALE:GREGORIAN
PRODID:-//Diputació de Barcelona//DibaCMS//EN
BEGIN:VEVENT
UID:2428
DTSTAMP:20260421T134530
DTSTART:20170312T000000
DTEND:20170312T000000
SUMMARY:FESTA DEL CONTRIBUENT - ARRIBADA DEL RECAPTADOR
LOCATION:
METHOD:PUBLISH
X-WR-CALNAME:info.pont@elpont.cat
X-WR-TIMEZONE:Europe/Madrid
DESCRIPTION:L'arribada serà al Passeig de la Pau i seguidament hi haurà cercavila de bitllets i caramels fins al Centre Cívic on es farà el Sorteig del Contribuent.
 
Ens acompanyarà la xaranga "Tal com Sona"
URI:https://www.elpont.cat/actualitat/agenda/2428-festa-del-contribuent-arribada-del-recaptador.html
CLASS:PUBLIC
END:VEVENT
END:VCALENDAR
