BEGIN:VCALENDAR
VERSION:2.0
CALSCALE:GREGORIAN
PRODID:-//Diputació de Barcelona//DibaCMS//EN
BEGIN:VEVENT
UID:2431
DTSTAMP:20260421T191048
DTSTART:20170315T000000
DTEND:20170315T000000
SUMMARY:DIA INTERNACIONAL DE LES DONES - LIVE2DANCE
LOCATION:
METHOD:PUBLISH
X-WR-CALNAME:info.pont@elpont.cat
X-WR-TIMEZONE:Europe/Madrid
DESCRIPTION:Classe de ball amb Lluís Vall.
 
LIVE2DANCE és la millor activitat per treballar el teu cos, cremar calories tot ballant amb els  millors ritmes dels 80's fins als Hits actuals.
 
Durant la sessió no pararas de ballar, però el millor de tot és que no te'n donaràs compte”
 
Hi haurà serveide dutxes
URI:https://www.elpont.cat/actualitat/agenda/dia-internacional-de-les-dones-live2dance.html
CLASS:PUBLIC
END:VEVENT
END:VCALENDAR
