BEGIN:VCALENDAR
VERSION:2.0
CALSCALE:GREGORIAN
PRODID:-//Diputació de Barcelona//DibaCMS//EN
BEGIN:VEVENT
UID:2432
DTSTAMP:20260422T030549
DTSTART:20170317T000000
DTEND:20170317T000000
SUMMARY:DIA INTERNACIONAL DE LES DONES - SEGON SOPAR DE DONES
LOCATION:
METHOD:PUBLISH
X-WR-CALNAME:info.pont@elpont.cat
X-WR-TIMEZONE:Europe/Madrid
DESCRIPTION:Després del sopar hi haurà l'actuació de Quim Vila.
URI:https://www.elpont.cat/actualitat/agenda/dia-internacional-de-les-dones-segon-sopar-de-dones.html
CLASS:PUBLIC
END:VEVENT
END:VCALENDAR
