BEGIN:VCALENDAR
VERSION:2.0
CALSCALE:GREGORIAN
PRODID:-//Diputació de Barcelona//DibaCMS//EN
BEGIN:VEVENT
UID:2433
DTSTAMP:20260421T173704
DTSTART:20170319T000000
DTEND:20170319T000000
SUMMARY:ESPECTACLE DE VARIETATS - VILOMARA MON AMOUR - AMB AIRES DE PRIMAVERA
LOCATION:
METHOD:PUBLISH
X-WR-CALNAME:info.pont@elpont.cat
X-WR-TIMEZONE:Europe/Madrid
DESCRIPTION:A càrrec del grup "Els Atrevits"
URI:https://www.elpont.cat/actualitat/agenda/espectacle-de-varietats-vilomara-mon-amour-amb-aires-de-primavera.html
CLASS:PUBLIC
END:VEVENT
END:VCALENDAR
